BEGIN:VCALENDAR
VERSION:2.0
PRODID:-//ChamberMaster//Event Calendar 2.0//EN
METHOD:PUBLISH
X-PUBLISHED-TTL:P3D
REFRESH-INTERVAL:P3D
CALSCALE:GREGORIAN
BEGIN:VEVENT
DTSTART:20190806T000000Z
DTEND:20190806T010000Z
X-MICROSOFT-CDO-ALLDAYEVENT:FALSE
SUMMARY:Zoning Board of Adjustments Meeting
DESCRIPTION:Powers\, Duties and Responsibilities -The Board of Adjustment shall act in a quasi-judicial capacity and activities shall be in accordance with Chapter 711\, of the Texas Local Government Code\, as amended. The Board may hear an appeal that alleges error in an order or decision of the Santa Fe Zoning Officer pertaining to the City's Zoning Ordinance text or map\; and shall be authorized to grant variances from the terms of the City's Zoning Ordinance if the variance is not contrary to the public interest and\, due to special conditions which are not self-imposed\, a literal enforcement of the ordinance would result in unnecessary hardship\, and so that the spirit of the ordinance is observed and substantial justice is done. The Board may reverse or affirm in whole or in part or modify the Zoning Officer's decision pertaining to the Zoning Ordinance.\n\n\n\nhttps://www.ci.santa-fe.tx.us/bc-zoning
X-ALT-DESC;FMTTYPE=text/html:<span style="font-size:12px\;"><span style="font-family:verdana\;"><strong style="color: rgb(71\, 71\, 71)\; font-family: Raleway\, sans-serif\; font-size: 19px\; text-align: justify\;">Powers\, Duties and Responsibilities&nbsp\;</strong><span style="color: rgb(71\, 71\, 71)\; text-align: justify\;">-The Board of Adjustment shall act in a quasi-judicial capacity and activities shall be in accordance with Chapter 711\, of the Texas Local Government Code\, as amended. The Board may hear an appeal that alleges error in an order or decision of the Santa Fe Zoning Officer pertaining to the City&#39\;s Zoning Ordinance text or map\; and shall be authorized to grant variances from the terms of the City&#39\;s Zoning Ordinance if the variance is not contrary to the public interest and\, due to special conditions which are not self-imposed\, a literal enforcement of the ordinance would result in unnecessary hardship\, and so that the spirit of the ordinance is observed and substantial justice is done. The Board may reverse or affirm in whole or in part or modify the Zoning Officer&#39\;s decision pertaining to the Zoning Ordinance.</span></span></span><br />\n<br />\n<a href="http://&#8203\;https://www.ci.santa-fe.tx.us/bc-zoning">https://www.ci.santa-fe.tx.us/bc-zoning</a>
LOCATION:
UID:e.451.6733
SEQUENCE:3
DTSTAMP:20260422T215104Z
URL:https://www.santafetxchamber.com/events/details/zoning-board-of-adjustments-meeting-08-05-2019-6733
END:VEVENT

END:VCALENDAR
