BEGIN:VCALENDAR
VERSION:2.0
PRODID:-//ChamberMaster//Event Calendar 2.0//EN
METHOD:PUBLISH
X-PUBLISHED-TTL:P3D
REFRESH-INTERVAL:P3D
CALSCALE:GREGORIAN
BEGIN:VEVENT
DTSTART:20161215T173000Z
DTEND:20161215T190000Z
X-MICROSOFT-CDO-ALLDAYEVENT:FALSE
SUMMARY:Women in Business Luncheon & Ornament Exchange
DESCRIPTION:Holiday Luncheon and Annual Ornament Exchange\n\nThe Hidden Palms\n\n3706 Ave. E1/2\n\nSanta Fe\, Texas
X-ALT-DESC;FMTTYPE=text/html:Holiday Luncheon and Annual Ornament Exchange<br />\nThe Hidden Palms<br />\n3706 Ave. E1/2<br />\nSanta Fe\, Texas
LOCATION:
UID:e.451.6147
SEQUENCE:3
DTSTAMP:20260424T190404Z
URL:https://www.santafetxchamber.com/events/details/women-in-business-luncheon-ornament-exchange-6147
END:VEVENT

END:VCALENDAR
