BEGIN:VCALENDAR
VERSION:2.0
PRODID:-//ChamberMaster//Event Calendar 2.0//EN
METHOD:PUBLISH
X-PUBLISHED-TTL:P3D
REFRESH-INTERVAL:P3D
CALSCALE:GREGORIAN
BEGIN:VEVENT
DTSTART:20160908T220000Z
DTEND:20160909T000000Z
X-MICROSOFT-CDO-ALLDAYEVENT:FALSE
SUMMARY:Women in Business ~ Ladies Night Out
DESCRIPTION:Women in Business ~ Ladies Night Out\n\nFloyd's on the Water in Hitchcock\n\n\n\nMore details to come...
X-ALT-DESC;FMTTYPE=text/html:Women in Business ~ Ladies Night Out<br />\nFloyd&#39\;s on the Water in Hitchcock<br />\n<br />\nMore details to come...
LOCATION:
UID:e.451.5233
SEQUENCE:3
DTSTAMP:20260425T011446Z
URL:https://www.santafetxchamber.com/events/details/women-in-business-ladies-night-out-5233
END:VEVENT

END:VCALENDAR
