BEGIN:VCALENDAR
VERSION:2.0
PRODID:-//ChamberMaster//Event Calendar 2.0//EN
METHOD:PUBLISH
X-PUBLISHED-TTL:P3D
REFRESH-INTERVAL:P3D
CALSCALE:GREGORIAN
BEGIN:VEVENT
DTSTART:20170407T230000Z
DTEND:20170408T030000Z
X-MICROSOFT-CDO-ALLDAYEVENT:FALSE
SUMMARY:Wine & Stars at Haak Vineyards & Winery
DESCRIPTION:Please RSVP to our Wine & Star Gazing to help us plan.  Thank you!  Below is information on this event.\n\nPlease plan to come and enjoy our popular star gazing along with award winning Haak wine and delicious food from our Executive Chef Mary Bass and her team.  See menu below for details.\n\nTime:  5:30 to 10:00 pm\n\nCost:  Admission for stargazing is Free\n\nAstronomers from the Johnson Space Center Astronomical Society (http://www.davidstestingground.com/index.htm) bring their telescopes for you to enjoy the stars and planets (www.jscas.net) weather permitting.\n\nFood Concessions are being offered in the unique setting of our winery. Wine may be purchased by the glass or bottle and we offer other non-alcoholic beverages as well.\n\nNo reservation needed for the evening.
X-ALT-DESC;FMTTYPE=text/html:<p style="box-sizing: border-box\; -webkit-font-smoothing: antialiased\; margin: 0px 0px 2rem\; font-size: 16px\; color: rgb(255\, 255\, 255)\; font-family: Helvetica\, Arial\, sans-serif\; background-color: rgb(0\, 0\, 0)\;"><span style="font-size:12px\;">Please RSVP to our Wine &amp\; Star Gazing to help us plan.&nbsp\; Thank you!&nbsp\; Below is information on this event.</span></p>\n\n<p style="box-sizing: border-box\; -webkit-font-smoothing: antialiased\; margin: 0px 0px 2rem\; font-size: 16px\; color: rgb(255\, 255\, 255)\; font-family: Helvetica\, Arial\, sans-serif\; background-color: rgb(0\, 0\, 0)\;"><span style="font-size:12px\;">Please plan to come and enjoy our popular star gazing along with award winning Haak wine and delicious food from our Executive Chef Mary Bass and her team.&nbsp\; See menu below for details.</span></p>\n\n<p style="box-sizing: border-box\; -webkit-font-smoothing: antialiased\; margin: 0px 0px 2rem\; font-size: 16px\; color: rgb(255\, 255\, 255)\; font-family: Helvetica\, Arial\, sans-serif\; background-color: rgb(0\, 0\, 0)\;"><span style="font-size:12px\;">Time:&nbsp\; 5:30 to 10:00 pm</span></p>\n\n<p style="box-sizing: border-box\; -webkit-font-smoothing: antialiased\; margin: 0px 0px 2rem\; font-size: 16px\; color: rgb(255\, 255\, 255)\; font-family: Helvetica\, Arial\, sans-serif\; background-color: rgb(0\, 0\, 0)\;"><span style="font-size:12px\;">Cost:&nbsp\; Admission for stargazing is Free</span></p>\n\n<p style="box-sizing: border-box\; -webkit-font-smoothing: antialiased\; margin: 0px 0px 2rem\; font-size: 16px\; color: rgb(255\, 255\, 255)\; font-family: Helvetica\, Arial\, sans-serif\; background-color: rgb(0\, 0\, 0)\;"><span style="font-size:12px\;">Astronomers from the Johnson Space Center Astronomical Society (<a class="SUGlink" href="http://www.davidstestingground.com/index.htm" rel="nofollow" style="box-sizing: border-box\; -webkit-font-smoothing: antialiased\; background-color: transparent\; color: rgb(255\, 204\, 0)\; transition: color 0.2s cubic-bezier(0.6\, 0\, 0.1\, 1)\; font-weight: bold\;">http://www.davidstestingground.com/index.htm</a>) bring their telescopes for you to enjoy the stars and planets (www.jscas.net) weather permitting.</span></p>\n\n<p style="box-sizing: border-box\; -webkit-font-smoothing: antialiased\; margin: 0px 0px 2rem\; font-size: 16px\; color: rgb(255\, 255\, 255)\; font-family: Helvetica\, Arial\, sans-serif\; background-color: rgb(0\, 0\, 0)\;"><span style="font-size:12px\;">Food Concessions are being offered in the unique setting of our winery. Wine may be purchased by the glass or bottle and we offer other non-alcoholic beverages as well.</span></p>\n\n<p style="box-sizing: border-box\; -webkit-font-smoothing: antialiased\; margin: 0px 0px 2rem\; font-size: 16px\; color: rgb(255\, 255\, 255)\; font-family: Helvetica\, Arial\, sans-serif\; background-color: rgb(0\, 0\, 0)\;"><span style="font-size:12px\;">No reservation needed for the evening.</span></p>\n
LOCATION:
UID:e.451.6182
SEQUENCE:3
DTSTAMP:20260424T141233Z
URL:https://www.santafetxchamber.com/events/details/wine-stars-at-haak-vineyards-winery-6182
END:VEVENT

END:VCALENDAR
