BEGIN:VCALENDAR
VERSION:2.0
PRODID:-//ChamberMaster//Event Calendar 2.0//EN
METHOD:PUBLISH
X-PUBLISHED-TTL:P3D
REFRESH-INTERVAL:P3D
CALSCALE:GREGORIAN
BEGIN:VEVENT
DTSTART:20190722T223000Z
DTEND:20190723T013000Z
X-MICROSOFT-CDO-ALLDAYEVENT:FALSE
SUMMARY:VBS - To Mars and Beyond
DESCRIPTION:Aldersgate United Methodist Church\n\n13217 FM 1764 in Santa Fe
X-ALT-DESC;FMTTYPE=text/html:Aldersgate United Methodist Church<br />\n13217 FM 1764 in Santa Fe
LOCATION:
UID:e.451.7650
SEQUENCE:3
DTSTAMP:20260422T233424Z
URL:https://www.santafetxchamber.com/events/details/vbs-to-mars-and-beyond-7650
END:VEVENT

END:VCALENDAR
