BEGIN:VCALENDAR
VERSION:2.0
PRODID:-//ChamberMaster//Event Calendar 2.0//EN
METHOD:PUBLISH
X-PUBLISHED-TTL:P3D
REFRESH-INTERVAL:P3D
CALSCALE:GREGORIAN
BEGIN:VEVENT
DTSTART:20150727T140000Z
DTEND:20150731T170000Z
X-MICROSOFT-CDO-ALLDAYEVENT:FALSE
SUMMARY:VBS Arcadia Christian Church
DESCRIPTION:14201 Beriton Street\n\nSanta Fe\n\n(409) 925-3551\n\nBryan Marks
X-ALT-DESC;FMTTYPE=text/html:14201 Beriton Street<br />\nSanta Fe<br />\n(409) 925-3551<br />\nBryan Marks
LOCATION:
UID:e.451.4106
SEQUENCE:3
DTSTAMP:20260426T005227Z
URL:https://www.santafetxchamber.com/events/details/vbs-arcadia-christian-church-07-27-2015-4106
END:VEVENT

END:VCALENDAR
