BEGIN:VCALENDAR
VERSION:2.0
PRODID:-//ChamberMaster//Event Calendar 2.0//EN
METHOD:PUBLISH
X-PUBLISHED-TTL:P3D
REFRESH-INTERVAL:P3D
CALSCALE:GREGORIAN
BEGIN:VEVENT
DTSTART:20170809T200000Z
DTEND:20170809T220000Z
X-MICROSOFT-CDO-ALLDAYEVENT:FALSE
SUMMARY:Vax-A-Nation - COM's Mobile Vaccination Clinic
DESCRIPTION:
X-ALT-DESC;FMTTYPE=text/html:
LOCATION:
UID:e.451.6356
SEQUENCE:3
DTSTAMP:20260424T071832Z
URL:https://www.santafetxchamber.com/events/details/vax-a-nation-com-s-mobile-vaccination-clinic-6356
END:VEVENT

END:VCALENDAR
