BEGIN:VCALENDAR
VERSION:2.0
PRODID:-//ChamberMaster//Event Calendar 2.0//EN
METHOD:PUBLISH
X-PUBLISHED-TTL:P3D
REFRESH-INTERVAL:P3D
CALSCALE:GREGORIAN
BEGIN:VEVENT
DTSTART:20170605T230000Z
DTEND:20170610T020000Z
X-MICROSOFT-CDO-ALLDAYEVENT:FALSE
SUMMARY:Vacation Bible School @ Santa Fe Christian Church
DESCRIPTION:Location: Santa Fe Christian Church\n\n               13602 FM 1764\n\nSanta Fe 77517\n\nJune 5-9\, from 6:00pm to 9:00pm\n\nCome experience the fun of VBS!!\n\nFor more information call or leave message at 409.925.319
X-ALT-DESC;FMTTYPE=text/html:<span style="color:#003300\;">Location: Santa Fe Christian Church<br />\n&nbsp\;&nbsp\; &nbsp\; &nbsp\; &nbsp\; &nbsp\; &nbsp\; &nbsp\;&nbsp\;13602 FM 1764</span><br />\n<span style="color:#003300\;">Santa Fe 77517</span><br />\n<span style="color:#003300\;">June 5-9\, from 6:00pm to 9:00pm</span><br />\n<span style="color:red\;"><span style="font-family:an unfortunate event\;">Come experience the fun of VBS!!</span></span><br />\n<span style="color:#003300\;">For more information call or leave message at 409.925.319</span>
LOCATION:
UID:e.451.6206
SEQUENCE:3
DTSTAMP:20260424T100725Z
URL:https://www.santafetxchamber.com/events/details/vacation-bible-school-santa-fe-christian-church-6206
END:VEVENT

END:VCALENDAR
