BEGIN:VCALENDAR
VERSION:2.0
PRODID:-//ChamberMaster//Event Calendar 2.0//EN
METHOD:PUBLISH
X-PUBLISHED-TTL:P3D
REFRESH-INTERVAL:P3D
CALSCALE:GREGORIAN
BEGIN:VEVENT
DTSTART:20190624T230000Z
DTEND:20190629T013000Z
X-MICROSOFT-CDO-ALLDAYEVENT:FALSE
SUMMARY:Vacation Bible School - First Baptist Church of Alta Loma
DESCRIPTION:
X-ALT-DESC;FMTTYPE=text/html:
LOCATION:
UID:e.451.7291
SEQUENCE:3
DTSTAMP:20260423T011330Z
URL:https://www.santafetxchamber.com/events/details/vacation-bible-school-first-baptist-church-of-alta-loma-7291
END:VEVENT

END:VCALENDAR
