BEGIN:VCALENDAR
VERSION:2.0
PRODID:-//ChamberMaster//Event Calendar 2.0//EN
METHOD:PUBLISH
X-PUBLISHED-TTL:P3D
REFRESH-INTERVAL:P3D
CALSCALE:GREGORIAN
BEGIN:VEVENT
DTSTART:20190610T225000Z
DTEND:20190611T014000Z
X-MICROSOFT-CDO-ALLDAYEVENT:FALSE
SUMMARY:Vacation Bible School - Arcadia First Baptist Church
DESCRIPTION:Mark your calendar now for VBS 2019! \n\nJune 9-13\, 2019. \n\n \n\nThis year we pray that the Lord would continue His\n\nincredible work through VBS and that we would see even more \n\nkids participate and come to know Christ as their savior. \n\nBut we can't do Vacation Bible School without you!\n\n \n\nIf you are interested in serving at VBS this year please \n\n contact Julie Beanland at julie@arcadiafbc.org for more information.
X-ALT-DESC;FMTTYPE=text/html:<span style="color:#3C245E\;"><span style="font-family:lucida sans unicode\,sans-serif\;"><span style="font-size:10.5pt\;">Mark your calendar now for VBS 2019! </span></span></span><br />\n<span style="color:#3C245E\;"><span style="font-family:lucida sans unicode\,sans-serif\;"><span style="font-size:10.5pt\;">June 9-13\, 2019.&nbsp\;</span></span></span><br />\n&nbsp\;<br />\n<span style="color:#3C245E\;"><span style="font-family:lucida sans unicode\,sans-serif\;"><span style="font-size:10.5pt\;">This year we pray that the Lord would continue His</span></span></span><br />\n<span style="color:#3C245E\;"><span style="font-family:lucida sans unicode\,sans-serif\;"><span style="font-size:10.5pt\;">incredible work through VBS and that we would see even more </span></span></span><br />\n<span style="color:#3C245E\;"><span style="font-family:lucida sans unicode\,sans-serif\;"><span style="font-size:10.5pt\;">kids participate and come to know Christ as their savior. </span></span></span><br />\n<span style="color:#3C245E\;"><span style="font-family:lucida sans unicode\,sans-serif\;"><span style="font-size:10.5pt\;">But we can&rsquo\;t do Vacation Bible School without you!</span></span></span><br />\n&nbsp\;<br />\n<span style="color:#3C245E\;"><span style="font-family:lucida sans unicode\,sans-serif\;"><span style="font-size:10.5pt\;">If you are interested in serving at VBS this year please </span></span></span><br />\n<span style="color:#3C245E\;"><span style="font-family:lucida sans unicode\,sans-serif\;"><span style="font-size:10.5pt\;">&#65279\;contact Julie Beanland at <a href="mailto:julie@arcadiafbc.org">julie@arcadiafbc.org</a> for more information.</span></span></span>
LOCATION:
UID:e.451.7022
SEQUENCE:3
DTSTAMP:20260423T003948Z
URL:https://www.santafetxchamber.com/events/details/vacation-bible-school-arcadia-first-baptist-church-06-10-2019-7022
END:VEVENT

END:VCALENDAR
