BEGIN:VCALENDAR
VERSION:2.0
PRODID:-//ChamberMaster//Event Calendar 2.0//EN
METHOD:PUBLISH
X-PUBLISHED-TTL:P3D
REFRESH-INTERVAL:P3D
CALSCALE:GREGORIAN
BEGIN:VEVENT
DTSTART:20190420T000000Z
DTEND:20190420T030000Z
X-MICROSOFT-CDO-ALLDAYEVENT:FALSE
SUMMARY:Undisputed Pro Wrestling at Fritz Barnett Gym
DESCRIPTION:
X-ALT-DESC;FMTTYPE=text/html:
LOCATION:
UID:e.451.7019
SEQUENCE:3
DTSTAMP:20260423T021839Z
URL:https://www.santafetxchamber.com/events/details/undisputed-pro-wrestling-at-fritz-barnett-gym-7019
END:VEVENT

END:VCALENDAR
