BEGIN:VCALENDAR
VERSION:2.0
PRODID:-//ChamberMaster//Event Calendar 2.0//EN
METHOD:PUBLISH
X-PUBLISHED-TTL:P3D
REFRESH-INTERVAL:P3D
CALSCALE:GREGORIAN
BEGIN:VEVENT
DTSTART:20210812T210000Z
DTEND:20210813T000000Z
X-MICROSOFT-CDO-ALLDAYEVENT:FALSE
SUMMARY:True Grit Realty Grand Opening & Ribbon Cutting
DESCRIPTION:Ribbon Cutting at 4:30p
X-ALT-DESC;FMTTYPE=text/html:Ribbon Cutting at 4:30p
LOCATION:
UID:e.451.7834
SEQUENCE:3
DTSTAMP:20260421T094821Z
URL:https://www.santafetxchamber.com/events/details/true-grit-realty-grand-opening-ribbon-cutting-7834
END:VEVENT

END:VCALENDAR
