BEGIN:VCALENDAR
VERSION:2.0
PRODID:-//ChamberMaster//Event Calendar 2.0//EN
METHOD:PUBLISH
X-PUBLISHED-TTL:P3D
REFRESH-INTERVAL:P3D
CALSCALE:GREGORIAN
BEGIN:VEVENT
DTSTART:20170508T230000Z
DTEND:20170509T000000Z
X-MICROSOFT-CDO-ALLDAYEVENT:FALSE
SUMMARY:TRIBE University - Budget & School Finance
DESCRIPTION:
X-ALT-DESC;FMTTYPE=text/html:
LOCATION:SFISD Cowan Education Center 4133 Warpath Santa Fe\, Texas
UID:e.451.6146
SEQUENCE:3
DTSTAMP:20260424T141156Z
URL:https://www.santafetxchamber.com/events/details/tribe-university-budget-school-finance-6146
END:VEVENT

END:VCALENDAR
