BEGIN:VCALENDAR
VERSION:2.0
PRODID:-//ChamberMaster//Event Calendar 2.0//EN
METHOD:PUBLISH
X-PUBLISHED-TTL:P3D
REFRESH-INTERVAL:P3D
CALSCALE:GREGORIAN
BEGIN:VEVENT
DTSTART:20190416T223000Z
DTEND:20190416T233000Z
X-MICROSOFT-CDO-ALLDAYEVENT:FALSE
SUMMARY:Together Tuesdays Easter Egg Hunt
DESCRIPTION:Santa Fe Family Services\n\nTogether Tuesdays\n\n\n\nLet's Go Easter Egg Hunting!!!
X-ALT-DESC;FMTTYPE=text/html:Santa Fe Family Services<br />\nTogether Tuesdays<br />\n<br />\nLet&#39\;s Go Easter Egg Hunting!!!
LOCATION:
UID:e.451.7255
SEQUENCE:3
DTSTAMP:20260423T032445Z
URL:https://www.santafetxchamber.com/events/details/together-tuesdays-easter-egg-hunt-7255
END:VEVENT

END:VCALENDAR
