BEGIN:VCALENDAR
VERSION:2.0
PRODID:-//ChamberMaster//Event Calendar 2.0//EN
METHOD:PUBLISH
X-PUBLISHED-TTL:P3D
REFRESH-INTERVAL:P3D
CALSCALE:GREGORIAN
BEGIN:VEVENT
DTSTART:20190423T223000Z
DTEND:20190424T003000Z
X-MICROSOFT-CDO-ALLDAYEVENT:FALSE
SUMMARY:Together Tuesday Project with Purpose
DESCRIPTION:Make and donate bowls to help feed the hungry in our community.\n\nSanta Fe Strong Resiliency Center\n\n13217 FM 1764 in Santa Fe
X-ALT-DESC;FMTTYPE=text/html:Make and donate bowls to help feed the hungry in our community.<br />\nSanta Fe Strong Resiliency Center<br />\n13217 FM 1764 in Santa Fe
LOCATION:
UID:e.451.7018
SEQUENCE:3
DTSTAMP:20260423T020809Z
URL:https://www.santafetxchamber.com/events/details/together-tuesday-project-with-purpose-7018
END:VEVENT

END:VCALENDAR
