BEGIN:VCALENDAR
VERSION:2.0
PRODID:-//ChamberMaster//Event Calendar 2.0//EN
METHOD:PUBLISH
X-PUBLISHED-TTL:P3D
REFRESH-INTERVAL:P3D
CALSCALE:GREGORIAN
BEGIN:VEVENT
DTSTART:20161003T123000Z
DTEND:20161007T200000Z
X-MICROSOFT-CDO-ALLDAYEVENT:FALSE
SUMMARY:TIRE DISPOSAL
DESCRIPTION:TIRE DISPOSAL\n\nCounty Commissioner Joe Giusti\, Precinct 2\, is making available to the citizens of Galveston County an opportunity to dispose of old tires. \n\nCollection begins the week of October 3rd through October 7th.  The truck will be located in the stock yard adjacent to the West County Building. \n\nHours are from 7:30 to 3:00. \n\nYou must show proof of Galveston County residency. Eight tires per vehicle will be accepted. No commercial or agriculture tires will be accepted. \n\nFor questions contact: Yesenia at 409-770-5475
X-ALT-DESC;FMTTYPE=text/html:<strong><span style="font-family:georgia\,serif\;"><span style="font-size:14.0pt\;">TIRE DISPOSAL</span></span></strong><br />\n<span style="color:black\;"><span style="font-family:georgia\,serif\;">County Commissioner Joe Giusti\, Precinct 2\, is making available to the citizens of Galveston County an opportunity to dispose of old tires. </span></span><br />\n<span style="color:black\;"><span style="font-family:georgia\,serif\;">Collection begins the week of October 3rd through October 7th.&nbsp\; The truck will be located in the stock yard adjacent to the West County Building. </span></span><br />\n<span style="color:black\;"><span style="font-family:georgia\,serif\;">Hours are from 7:30 to 3:00. </span></span><br />\n<span style="color:black\;"><span style="font-family:georgia\,serif\;">You must show proof of Galveston County residency. Eight tires per vehicle will be accepted. No commercial or agriculture tires will be accepted. </span></span><br />\n<span style="color:black\;"><span style="font-family:georgia\,serif\;">For questions contact: Yesenia at 409-770-5475</span></span>
LOCATION:
UID:e.451.6118
SEQUENCE:3
DTSTAMP:20260424T215040Z
URL:https://www.santafetxchamber.com/events/details/tire-disposal-6118
END:VEVENT

END:VCALENDAR
