BEGIN:VCALENDAR
VERSION:2.0
PRODID:-//ChamberMaster//Event Calendar 2.0//EN
METHOD:PUBLISH
X-PUBLISHED-TTL:P3D
REFRESH-INTERVAL:P3D
CALSCALE:GREGORIAN
BEGIN:VEVENT
DTSTART:20190319T123000Z
DTEND:20190319T200000Z
X-MICROSOFT-CDO-ALLDAYEVENT:FALSE
SUMMARY:Tire Disposal
DESCRIPTION:
X-ALT-DESC;FMTTYPE=text/html:
LOCATION:
UID:e.451.7235
SEQUENCE:3
DTSTAMP:20260423T033144Z
URL:https://www.santafetxchamber.com/events/details/tire-disposal-03-19-2019-7235
END:VEVENT

END:VCALENDAR
