BEGIN:VCALENDAR
VERSION:2.0
PRODID:-//ChamberMaster//Event Calendar 2.0//EN
METHOD:PUBLISH
X-PUBLISHED-TTL:P3D
REFRESH-INTERVAL:P3D
CALSCALE:GREGORIAN
BEGIN:VEVENT
DTSTART:20180731T140000Z
DTEND:20180731T210000Z
X-MICROSOFT-CDO-ALLDAYEVENT:FALSE
SUMMARY:The Healthy Workplace Initiative
DESCRIPTION:Hosted by United Way Galveston County Mainland
X-ALT-DESC;FMTTYPE=text/html:Hosted by United Way Galveston County Mainland
LOCATION:
UID:e.451.6622
SEQUENCE:3
DTSTAMP:20260423T180031Z
URL:https://www.santafetxchamber.com/events/details/the-healthy-workplace-initiative-6622
END:VEVENT

END:VCALENDAR
