BEGIN:VCALENDAR
VERSION:2.0
PRODID:-//ChamberMaster//Event Calendar 2.0//EN
METHOD:PUBLISH
X-PUBLISHED-TTL:P3D
REFRESH-INTERVAL:P3D
CALSCALE:GREGORIAN
BEGIN:VEVENT
DTSTART:20180908T120000Z
DTEND:20180908T160000Z
X-MICROSOFT-CDO-ALLDAYEVENT:FALSE
SUMMARY:The Daily News Press Run 2018
DESCRIPTION:
X-ALT-DESC;FMTTYPE=text/html:
LOCATION:
UID:e.451.6631
SEQUENCE:3
DTSTAMP:20260423T162655Z
URL:https://www.santafetxchamber.com/events/details/the-daily-news-press-run-2018-6631
END:VEVENT

END:VCALENDAR
