BEGIN:VCALENDAR
VERSION:2.0
PRODID:-//ChamberMaster//Event Calendar 2.0//EN
METHOD:PUBLISH
X-PUBLISHED-TTL:P3D
REFRESH-INTERVAL:P3D
CALSCALE:GREGORIAN
BEGIN:VEVENT
DTSTART;VALUE=DATE:20210724
DTEND;VALUE=DATE:20210725
TRANSP:TRANSPARENT
X-MICROSOFT-CDO-ALLDAYEVENT:TRUE
SUMMARY:The Bunker Cigar Lounge Open House
DESCRIPTION:All Day Event -\n\n  Meat Haven BBQ will be open around Noon\n\n  David Blanco Cigars and ALAMO Distillery will set up at 3:00p\n\n\n\n10% of all proceeds will be donated to Santa Fe Fire & Rescue
X-ALT-DESC;FMTTYPE=text/html:All Day Event -<br />\n&nbsp\;&nbsp\;Meat Haven BBQ will be open around Noon<br />\n&nbsp\; David Blanco Cigars and ALAMO Distillery will set up at 3:00p<br />\n<br />\n10% of all proceeds will be donated to Santa Fe Fire &amp\; Rescue
LOCATION:
UID:e.451.7830
SEQUENCE:3
DTSTAMP:20260421T094614Z
URL:https://www.santafetxchamber.com/events/details/the-bunker-cigar-lounge-open-house-7830
END:VEVENT

END:VCALENDAR
