BEGIN:VCALENDAR
VERSION:2.0
PRODID:-//ChamberMaster//Event Calendar 2.0//EN
METHOD:PUBLISH
X-PUBLISHED-TTL:P3D
REFRESH-INTERVAL:P3D
CALSCALE:GREGORIAN
BEGIN:VEVENT
DTSTART:20180913T223000Z
DTEND:20180914T010000Z
X-MICROSOFT-CDO-ALLDAYEVENT:FALSE
SUMMARY:Taste of Santa Fe & Business Expo ~ 2018
DESCRIPTION:Taste of Santa Fe & Business Expo is an opportunity for businesses and organizations that serve Santa Fe to interact with each other and with members of the community.  It's a great event to find local businesses where you can eat\, shop and play.\n\n\n\nClick HERE for $5.00 Event Entry Coupon\n\n\n\n\n\nClick HERE for vendor booth and sponsorship information.\n\n\n\nClick HERE for food exhibitor information.\n\n\n\nVendor Listing:\n\n  Action Personnel\, Inc.\n\n  Affinity Immediate Care\n\n  AMOCO Federal Credit Union\n\n  Artistic Endeavors by Linda Cobb Huoni\n\n  BBVA Compass Bank\n\n  Beach Sno Cones\n\n  Big Texan Party Rentals\n\n  Bra Dazzle\n\n  CenterPoint Energy\n\n  City of Santa Fe\n\n  College of the Mainland\n\n  Color Street\n\n  COMPAC\n\n  Cowan Cafe' (Food Vendor)\n\n  Dayspring Church (Food Vendor)\n\n  Dream Vacations\n\n  Elite Care 24/7 Emergency Room\n\n  Fairway Chiropractic\n\n  Farmers Insurance - Agent\, Fidencio Leija\n\n  Galveston County Constable\, Jimmy Fullen (Frosty Beverage Vendor)\n\n  Galveston County Small Business Development Center\n\n  Gator Jacks (Food Vendor)\n\n  Jason's Deli (Food Vendor)\n\n  Jessica Hagewood\, SFISD School Board Candidate\n\n  Jody Davis\, SFISD School Board Candidate\n\n  Little Bit of This\, Little Bit of That\n\n  Little Caesars Pizza (Food Vendor)\n\n  Mae S. Bruce Library\n\n  My Special Occasion\n\n  Patches & Pearls\n\n  Raising Cane's (Food Vendor)\n\n  Red Cap / C & D Burgers (Food Vendor)\n\n  RE/Max Crossroads Realty\n\n  Santa Fe Culinary All Stars (Food Vendor)\n\n  Santa Fe Smiles\n\n  Santa Fe Texas Education Foundation\n\n  Secure Mortgage Company\n\n  Shiloh Couriers\, Inc.\n\n  Southern Elegance Catering (Food Vendor)\n\n  State Farm Insurance\, Agent Greg Gardner\n\n  Stewart Title\n\n  Tailored Living\n\n  Texas First Bank - Santa Fe\n\n  The Boudin Barn\n\n  The Boudin Barn (Food Vendor)\n\n  Tupperware by Cathering Ryan
X-ALT-DESC;FMTTYPE=text/html:<p>Taste of Santa Fe &amp\; Business Expo is an opportunity for businesses and organizations that serve Santa Fe to interact with each other and with members of the community. &nbsp\;It&#39\;s a great event to find local businesses where you can eat\, shop and play.<br />\n<br />\nClick <a href="https://chambermaster.blob.core.windows.net/userfiles/UserFiles/chambers/451/File/Taste_of_Santa_Fe/Coupon.png"><span style="color:#FF0000\;">HERE</span></a> for $5.00 Event Entry Coupon<br />\n<br />\n<br />\nClick <a href="https://chambermaster.blob.core.windows.net/userfiles/UserFiles/chambers/451/File/Taste_of_Santa_Fe/Invitation_BusinessandSponsors.pdf"><span style="color:#FF0000\;">HERE</span></a> for vendor booth and sponsorship information.<br />\n<br />\nClick <a href="https://chambermaster.blob.core.windows.net/userfiles/UserFiles/chambers/451/File/Taste_of_Santa_Fe/Invitation_FoodExhibitor.pdf"><span style="color:#FF0000\;">HERE</span></a> for food exhibitor information.<br />\n<br />\nVendor Listing:<br />\n&nbsp\; Action Personnel\, Inc.<br />\n&nbsp\; Affinity Immediate Care<br />\n&nbsp\; AMOCO Federal Credit Union<br />\n&nbsp\; Artistic Endeavors by Linda Cobb Huoni<br />\n&nbsp\; BBVA Compass Bank<br />\n&nbsp\; Beach Sno Cones<br />\n&nbsp\; Big Texan Party Rentals<br />\n&nbsp\; Bra Dazzle<br />\n&nbsp\; CenterPoint Energy<br />\n&nbsp\; City of Santa Fe<br />\n&nbsp\; College of the Mainland<br />\n&nbsp\; Color Street<br />\n&nbsp\; COMPAC<br />\n&nbsp\; Cowan Cafe&#39\; (Food Vendor)<br />\n&nbsp\; Dayspring Church (Food Vendor)<br />\n&nbsp\; Dream Vacations<br />\n&nbsp\; Elite Care 24/7 Emergency Room<br />\n&nbsp\; Fairway Chiropractic<br />\n&nbsp\; Farmers Insurance - Agent\, Fidencio Leija<br />\n&nbsp\; Galveston County Constable\, Jimmy Fullen (Frosty Beverage&nbsp\;Vendor)<br />\n&nbsp\; Galveston County Small Business Development Center<br />\n&nbsp\; Gator Jacks (Food Vendor)<br />\n&nbsp\; Jason&#39\;s Deli (Food Vendor)<br />\n&nbsp\; Jessica Hagewood\, SFISD School Board Candidate<br />\n&nbsp\; Jody Davis\, SFISD School Board Candidate<br />\n&nbsp\; Little Bit of This\, Little Bit of That<br />\n&nbsp\; Little Caesars Pizza (Food Vendor)<br />\n&nbsp\; Mae S. Bruce Library<br />\n&nbsp\; My Special Occasion<br />\n&nbsp\; Patches &amp\; Pearls<br />\n&nbsp\; Raising Cane&#39\;s (Food Vendor)<br />\n&nbsp\; Red Cap / C &amp\; D Burgers (Food Vendor)<br />\n&nbsp\; RE/Max Crossroads Realty<br />\n&nbsp\; Santa Fe Culinary All Stars (Food Vendor)<br />\n&nbsp\; Santa Fe Smiles<br />\n&nbsp\; Santa Fe Texas Education Foundation<br />\n&nbsp\; Secure Mortgage Company<br />\n&nbsp\; Shiloh Couriers\, Inc.<br />\n&nbsp\; Southern Elegance Catering (Food Vendor)<br />\n&nbsp\; State Farm Insurance\, Agent Greg Gardner<br />\n&nbsp\; Stewart Title<br />\n&nbsp\; Tailored Living<br />\n&nbsp\; Texas First Bank - Santa Fe<br />\n&nbsp\; The Boudin Barn<br />\n&nbsp\; The Boudin Barn (Food Vendor)<br />\n&nbsp\; Tupperware by Cathering Ryan<br />\n&nbsp\;</p>\n
LOCATION:Ed Pickett Hall at the Galveston County Fairgrounds 10 Jack Brooks Rd. Hitchcock\, TX 77563
UID:e.451.6575
SEQUENCE:3
DTSTAMP:20260423T150431Z
URL:https://www.santafetxchamber.com/events/details/taste-of-santa-fe-business-expo-2018-6575
END:VEVENT

END:VCALENDAR
