BEGIN:VCALENDAR
VERSION:2.0
PRODID:-//ChamberMaster//Event Calendar 2.0//EN
METHOD:PUBLISH
X-PUBLISHED-TTL:P3D
REFRESH-INTERVAL:P3D
CALSCALE:GREGORIAN
BEGIN:VEVENT
DTSTART:20180813T150000Z
DTEND:20180813T190000Z
X-MICROSOFT-CDO-ALLDAYEVENT:FALSE
SUMMARY:Summer Art Camp
DESCRIPTION:Hosted by United Way Galveston County Mainland\n\nfor Kids in 1st through 5th Grade
X-ALT-DESC;FMTTYPE=text/html:Hosted by United Way Galveston County Mainland<br />\nfor Kids in 1st through 5th Grade
LOCATION:
UID:e.451.6626
SEQUENCE:3
DTSTAMP:20260423T163113Z
URL:https://www.santafetxchamber.com/events/details/summer-art-camp-6626
END:VEVENT

END:VCALENDAR
