BEGIN:VCALENDAR
VERSION:2.0
PRODID:-//ChamberMaster//Event Calendar 2.0//EN
METHOD:PUBLISH
X-PUBLISHED-TTL:P3D
REFRESH-INTERVAL:P3D
CALSCALE:GREGORIAN
BEGIN:VEVENT
DTSTART:20170627T160000Z
DTEND:20170627T180000Z
X-MICROSOFT-CDO-ALLDAYEVENT:FALSE
SUMMARY:Story Hour Featuring Astros Broadcaster\, Robert Ford
DESCRIPTION:
X-ALT-DESC;FMTTYPE=text/html:
LOCATION:
UID:e.451.6417
SEQUENCE:3
DTSTAMP:20260424T100004Z
URL:https://www.santafetxchamber.com/events/details/story-hour-featuring-astros-broadcaster-robert-ford-6417
END:VEVENT

END:VCALENDAR
