BEGIN:VCALENDAR
VERSION:2.0
PRODID:-//ChamberMaster//Event Calendar 2.0//EN
METHOD:PUBLISH
X-PUBLISHED-TTL:P3D
REFRESH-INTERVAL:P3D
CALSCALE:GREGORIAN
BEGIN:VEVENT
DTSTART:20180201T003000Z
DTEND:20180201T020000Z
X-MICROSOFT-CDO-ALLDAYEVENT:FALSE
SUMMARY:State Representative - District 23 Candidate Forum
DESCRIPTION:State Representative - District 23 Candidate Forum\n\n\nCandidates:\n\n  Representative Wayne Faircloth (incumbent)\n\n  Mayes Middleton\n\n\n\nBrought to you by: \n\nLeague City Regional Chamber of Commerce\n\nTexas City-La Marque Chamber of Commerce\n\nSanta Fe Chamber of Commerce\, Inc.\n\ni45NOW\n\nCollege of the Mainland\n\n\n\n\nThe Candidate Forums will be moderated by TJ Aulds of i45NOW and are all open to the public.\n\nThe League City Regional Chamber of Commerce\, the Texas City-La Marque Chamber of Commerce\, the Santa Fe Chamber of Commerce\, Inc.\, i45NOW and the College of the Mainland are all nonpartisan organizations that encourage the informed and active participation of citizens in government\, works to increase understanding of major public policy issues\, and influences public policy through education and advocacy.
X-ALT-DESC;FMTTYPE=text/html:<div class="cms-content cms-widget published " id="content-20663">\n<div class="mn-content" id="mn-content">\n<div class="mn-module-content" id="mn-events">\n<div id="mn-events-details" itemscope="itemscope" itemtype="http://schema.org/Event">\n<div class="mn-section mn-event-detail-listing">\n<div class="mn-event-info mn-listing-infobasic">\n<div class="mn-event-section mn-event-desc">\n<div class="mn-event-head">State Representative - District 23 Candidate Forum</div>\n\n<div class="mn-event-content">\n<div class="mn-raw mn-print-url" itemprop="description">Candidates:<br />\n&nbsp\; Representative Wayne Faircloth (incumbent)<br />\n&nbsp\; Mayes Middleton<br />\n<br />\nBrought to you by:&nbsp\;<br />\nLeague City Regional Chamber of Commerce<br />\nTexas City-La Marque Chamber of Commerce<br />\nSanta Fe Chamber of Commerce\, Inc.<br />\ni45NOW<br />\nCollege of the Mainland\n<div class="page" title="Page 1">\n<div class="section">\n<div class="layoutArea">\n<div class="column">\n<p><span style="font-size: 12px\;"><span style="font-family: tahoma\;"><span style="color: rgb(33\, 33\, 33)\;">The Candidate Forums will be moderated by TJ&nbsp\;Aulds&nbsp\;of&nbsp\;i45NOW&nbsp\;and are all open to the public.</span></span></span></p>\n\n<p><span style="font-size: 12px\;"><span style="font-family: tahoma\;"><span style="color: rgb(33\, 33\, 33)\; font-style: italic\;">The League City Regional Chamber of Commerce\, the Texas City-La Marque Chamber of Commerce\, the Santa Fe Chamber of Commerce\, Inc.\,&nbsp\;i45NOW&nbsp\;and the College of the Mainland are all nonpartisan organizations that encourage the informed and active participation of citizens in government\, works to increase understanding of major public policy issues\, and influences public policy through education and advocacy.</span></span></span></p>\n</div>\n</div>\n</div>\n</div>\n</div>\n</div>\n</div>\n</div>\n</div>\n</div>\n</div>\n</div>\n</div>\n
LOCATION:College of the Mainland LRC 131 (Auditorium) 1200 N. Amburn Rd. Texas City\, TX 77591
UID:e.451.6580
SEQUENCE:3
DTSTAMP:20260424T041757Z
URL:https://www.santafetxchamber.com/events/details/state-representative-district-23-candidate-forum-6580
END:VEVENT

END:VCALENDAR
