BEGIN:VCALENDAR
VERSION:2.0
PRODID:-//ChamberMaster//Event Calendar 2.0//EN
METHOD:PUBLISH
X-PUBLISHED-TTL:P3D
REFRESH-INTERVAL:P3D
CALSCALE:GREGORIAN
BEGIN:VEVENT
DTSTART:20161024T160000Z
DTEND:20161025T020000Z
X-MICROSOFT-CDO-ALLDAYEVENT:FALSE
SUMMARY:Spirit Day @ Gringo's ~ SFHS Project Graduation 2017
DESCRIPTION:
X-ALT-DESC;FMTTYPE=text/html:
LOCATION:
UID:e.451.6129
SEQUENCE:3
DTSTAMP:20260425T024143Z
URL:https://www.santafetxchamber.com/events/details/spirit-day-gringo-s-sfhs-project-graduation-2017-6129
END:VEVENT

END:VCALENDAR
