BEGIN:VCALENDAR
VERSION:2.0
PRODID:-//ChamberMaster//Event Calendar 2.0//EN
METHOD:PUBLISH
X-PUBLISHED-TTL:P3D
REFRESH-INTERVAL:P3D
CALSCALE:GREGORIAN
BEGIN:VEVENT
DTSTART:20191211T230000Z
DTEND:20191212T000000Z
X-MICROSOFT-CDO-ALLDAYEVENT:FALSE
SUMMARY:Smoking Cessation
DESCRIPTION:City of Santa Fe Resiliency Center\n\nlocated at Aldersgate United Methodist Church\n\n13217 FM 1764 in Santa Fe
X-ALT-DESC;FMTTYPE=text/html:City of Santa Fe Resiliency Center<br />\nlocated at Aldersgate United Methodist Church<br />\n13217 FM 1764 in Santa Fe
LOCATION:
UID:e.451.7631
SEQUENCE:3
DTSTAMP:20260422T174031Z
URL:https://www.santafetxchamber.com/events/details/smoking-cessation-12-11-2019-7631
END:VEVENT

END:VCALENDAR
