BEGIN:VCALENDAR
VERSION:2.0
PRODID:-//ChamberMaster//Event Calendar 2.0//EN
METHOD:PUBLISH
X-PUBLISHED-TTL:P3D
REFRESH-INTERVAL:P3D
CALSCALE:GREGORIAN
BEGIN:VEVENT
DTSTART:20190828T220000Z
DTEND:20190828T230000Z
X-MICROSOFT-CDO-ALLDAYEVENT:FALSE
SUMMARY:Smoking Cessation
DESCRIPTION:City of Santa Fe Resiliency Center\n\nlocated at Aldersgate United Methodist Church\n\n13217 FM 1764 in Santa Fe
X-ALT-DESC;FMTTYPE=text/html:City of Santa Fe Resiliency Center<br />\nlocated at Aldersgate United Methodist Church<br />\n13217 FM 1764 in Santa Fe
LOCATION:
UID:e.451.7616
SEQUENCE:3
DTSTAMP:20260422T222838Z
URL:https://www.santafetxchamber.com/events/details/smoking-cessation-08-28-2019-7616
END:VEVENT

END:VCALENDAR
