BEGIN:VCALENDAR
VERSION:2.0
PRODID:-//ChamberMaster//Event Calendar 2.0//EN
METHOD:PUBLISH
X-PUBLISHED-TTL:P3D
REFRESH-INTERVAL:P3D
CALSCALE:GREGORIAN
BEGIN:VEVENT
DTSTART:20190713T220000Z
DTEND:20190714T000000Z
X-MICROSOFT-CDO-ALLDAYEVENT:FALSE
SUMMARY:Sip n' Stroll
DESCRIPTION:Saturday\, July 13th - Sip n' Stroll\n\n\n\nJoin us for a complimentary beverage while you take in the surroundings of our tropical nursery. Discover new species of bromeliads and see the rest of our tropicals.\n\n\n\n5 p.m. - 7 p.m
X-ALT-DESC;FMTTYPE=text/html:&nbsp\;<br />\n<span style="background-image:initial\;background-position:initial\;background-size:initial\;background-repeat:initial\;background-attachment:initial\;background-origin:initial\;background-clip:initial\;"><span style="color:#77bb41\;"><span style="font-family:helvetica\,sans-serif\;"><span style="font-size:10.5pt\;"><span style="white-space:pre-wrap\;">Saturday\, July 13th - Sip n&rsquo\; Stroll</span></span></span></span></span><br />\n<br />\n<span style="background-image:initial\;background-position:initial\;background-size:initial\;background-repeat:initial\;background-attachment:initial\;background-origin:initial\;background-clip:initial\;"><span style="color:#77bb41\;"><span style="font-family:helvetica\,sans-serif\;"><span style="font-size:10.5pt\;"><span style="white-space:pre-wrap\;">Join us for a complimentary beverage while you take in the surroundings of our tropical nursery. Discover new species of bromeliads and see the rest of our tropicals.<br />\n<br />\n5 p.m. - 7 p.m</span></span></span></span></span>
LOCATION:
UID:e.451.6706
SEQUENCE:3
DTSTAMP:20260422T230620Z
URL:https://www.santafetxchamber.com/events/details/sip-n-stroll-6706
END:VEVENT

END:VCALENDAR
