BEGIN:VCALENDAR
VERSION:2.0
PRODID:-//ChamberMaster//Event Calendar 2.0//EN
METHOD:PUBLISH
X-PUBLISHED-TTL:P3D
REFRESH-INTERVAL:P3D
CALSCALE:GREGORIAN
BEGIN:VEVENT
DTSTART:20160130T003000Z
DTEND:20160130T023000Z
X-MICROSOFT-CDO-ALLDAYEVENT:FALSE
SUMMARY:Shrek\, The Musical performed by SFISD Students
DESCRIPTION:SFISD students from all campuses perform a musical each year. If you liked the movie Shrek\, you will love this musical!
X-ALT-DESC;FMTTYPE=text/html:SFISD students from all campuses perform a musical each year. If you liked the movie Shrek\, you will love this musical!
LOCATION:Santa Fe High School Auditorium\, 16000 Highway 6\, Santa Fe\, TX
UID:e.451.5139
SEQUENCE:3
DTSTAMP:20260425T153315Z
URL:https://www.santafetxchamber.com/events/details/shrek-the-musical-performed-by-sfisd-students-01-29-2016-5139
END:VEVENT

END:VCALENDAR
