BEGIN:VCALENDAR
VERSION:2.0
PRODID:-//ChamberMaster//Event Calendar 2.0//EN
METHOD:PUBLISH
X-PUBLISHED-TTL:P3D
REFRESH-INTERVAL:P3D
CALSCALE:GREGORIAN
BEGIN:VEVENT
DTSTART:20160131T003000Z
DTEND:20160131T023000Z
X-MICROSOFT-CDO-ALLDAYEVENT:FALSE
SUMMARY:Shreck: The Musical performed by SFISD Students
DESCRIPTION:Each year\, SFISD students from all campuses perform a musical. If you liked Shrek the movie\, you will love this musical!
X-ALT-DESC;FMTTYPE=text/html:Each year\, SFISD students from all campuses perform a musical. If you liked Shrek the movie\, you will love this musical!
LOCATION:Santa Fe High School Auditorium\, 16000 Highway 6\, Santa Fe\, TX
UID:e.451.5140
SEQUENCE:3
DTSTAMP:20260425T154833Z
URL:https://www.santafetxchamber.com/events/details/shreck-the-musical-performed-by-sfisd-students-01-30-2016-5140
END:VEVENT

END:VCALENDAR
