BEGIN:VCALENDAR
VERSION:2.0
PRODID:-//ChamberMaster//Event Calendar 2.0//EN
METHOD:PUBLISH
X-PUBLISHED-TTL:P3D
REFRESH-INTERVAL:P3D
CALSCALE:GREGORIAN
BEGIN:VEVENT
DTSTART:20151016T230000Z
DTEND:20151017T020000Z
X-MICROSOFT-CDO-ALLDAYEVENT:FALSE
SUMMARY:SFTXEF Annual Gala
DESCRIPTION:Please mark your calendars for the 6th Annual Santa Fe Texas Education Foundation Fall Gala\n\nFriday October 16\, 2015\n\n6 p.m. @ Ed Pickett Hall\n\nGalveston County Fair Grounds\n\nBenefiting the Students of Santa Fe ISD
X-ALT-DESC;FMTTYPE=text/html:Please mark your calendars for the 6th Annual Santa Fe Texas Education Foundation Fall Gala<br />\nFriday October 16\, 2015<br />\n6 p.m. @ Ed Pickett Hall<br />\nGalveston County Fair Grounds<br />\nBenefiting the Students of Santa Fe ISD
LOCATION:
UID:e.451.4113
SEQUENCE:3
DTSTAMP:20260425T200110Z
URL:https://www.santafetxchamber.com/events/details/sftxef-annual-gala-10-16-2015-4113
END:VEVENT

END:VCALENDAR
