BEGIN:VCALENDAR
VERSION:2.0
PRODID:-//ChamberMaster//Event Calendar 2.0//EN
METHOD:PUBLISH
X-PUBLISHED-TTL:P3D
REFRESH-INTERVAL:P3D
CALSCALE:GREGORIAN
BEGIN:VEVENT
DTSTART:20201001T230000Z
DTEND:20201002T000000Z
X-MICROSOFT-CDO-ALLDAYEVENT:FALSE
SUMMARY:SFISD Virtual School Board Candidate’s Forum
DESCRIPTION:TJ Aulds with i45NOW will host this event live\, virtually on Facebook. It will be recorded and the YouTube link will be provided after the event.
X-ALT-DESC;FMTTYPE=text/html:TJ Aulds with i45NOW will host this event live\, virtually on Facebook. It will be recorded and the YouTube link will be provided after the event.
LOCATION:Facebook Live
UID:e.451.7814
SEQUENCE:3
DTSTAMP:20260422T013523Z
URL:https://www.santafetxchamber.com/events/details/sfisd-virtual-school-board-candidate-s-forum-7814
END:VEVENT

END:VCALENDAR
