BEGIN:VCALENDAR
VERSION:2.0
PRODID:-//ChamberMaster//Event Calendar 2.0//EN
METHOD:PUBLISH
X-PUBLISHED-TTL:P3D
REFRESH-INTERVAL:P3D
CALSCALE:GREGORIAN
BEGIN:VEVENT
DTSTART:20170621T163000Z
DTEND:20170621T180000Z
X-MICROSOFT-CDO-ALLDAYEVENT:FALSE
SUMMARY:SFISD Scoreboard Advertising Lunch & Learn
DESCRIPTION:
X-ALT-DESC;FMTTYPE=text/html:
LOCATION:
UID:e.451.6377
SEQUENCE:3
DTSTAMP:20260424T110954Z
URL:https://www.santafetxchamber.com/events/details/sfisd-scoreboard-advertising-lunch-learn-6377
END:VEVENT

END:VCALENDAR
