BEGIN:VCALENDAR
VERSION:2.0
PRODID:-//ChamberMaster//Event Calendar 2.0//EN
METHOD:PUBLISH
X-PUBLISHED-TTL:P3D
REFRESH-INTERVAL:P3D
CALSCALE:GREGORIAN
BEGIN:VEVENT
DTSTART:20160901T230000Z
DTEND:20160902T000000Z
X-MICROSOFT-CDO-ALLDAYEVENT:FALSE
SUMMARY:SFISD Political Action Committee Campaign Kickoff Meeting #1
DESCRIPTION:SFISD's Political Action Committee has organized a meeting to discuss an upcoming bond proposal in the amount of approximately $35 Million to be used for a new elementary school and miscellaneous repairs to existing school buildings.
X-ALT-DESC;FMTTYPE=text/html:<p>SFISD&#39\;s Political Action Committee has organized a meeting to discuss an upcoming bond proposal in the amount of approximately $35 Million to be used for a new elementary school and miscellaneous&nbsp\;repairs to existing school buildings.</p>\n\n<div class="text_exposed_show">\n<p>&nbsp\;</p>\n</div>\n
LOCATION:Santa Fe Fire & Rescue
UID:e.451.5987
SEQUENCE:3
DTSTAMP:20260424T233747Z
URL:https://www.santafetxchamber.com/events/details/sfisd-political-action-committee-campaign-kickoff-meeting-1-5987
END:VEVENT

END:VCALENDAR
