BEGIN:VCALENDAR
VERSION:2.0
PRODID:-//ChamberMaster//Event Calendar 2.0//EN
METHOD:PUBLISH
X-PUBLISHED-TTL:P3D
REFRESH-INTERVAL:P3D
CALSCALE:GREGORIAN
BEGIN:VEVENT
DTSTART:20180407T140000Z
DTEND:20180407T163000Z
X-MICROSOFT-CDO-ALLDAYEVENT:FALSE
SUMMARY:SFISD Job Fair 2018
DESCRIPTION:SFISD is hiring teachers\, paraprofessionals and auxillary departments positions.
X-ALT-DESC;FMTTYPE=text/html:SFISD is hiring teachers\, paraprofessionals and auxillary departments positions.
LOCATION:SFISD Cowan Education Center 4133 Warpath Santa Fe\, TX 77510
UID:e.451.6592
SEQUENCE:3
DTSTAMP:20260423T235342Z
URL:https://www.santafetxchamber.com/events/details/sfisd-job-fair-2018-6592
END:VEVENT

END:VCALENDAR
