BEGIN:VCALENDAR
VERSION:2.0
PRODID:-//ChamberMaster//Event Calendar 2.0//EN
METHOD:PUBLISH
X-PUBLISHED-TTL:P3D
REFRESH-INTERVAL:P3D
CALSCALE:GREGORIAN
BEGIN:VEVENT
DTSTART:20160104T160000Z
DTEND:20160104T180000Z
X-MICROSOFT-CDO-ALLDAYEVENT:FALSE
SUMMARY:SFISD Employee Health Fair
DESCRIPTION:SFISD is welcoming employees back with a Health Fair. All businesses welcome. If your business would like to provide goodie bag items\, door prizes\, or have a table at the event\, contact Becky Wright before December 18.
X-ALT-DESC;FMTTYPE=text/html:SFISD is welcoming employees back with a Health Fair. All businesses welcome. If your business would like to provide goodie bag items\, door prizes\, or have a table at the event\, contact Becky Wright before December 18.
LOCATION:Santa Fe Jr. High School
UID:e.451.5135
SEQUENCE:3
DTSTAMP:20260425T153516Z
URL:https://www.santafetxchamber.com/events/details/sfisd-employee-health-fair-01-04-2016-5135
END:VEVENT

END:VCALENDAR
