BEGIN:VCALENDAR
VERSION:2.0
PRODID:-//ChamberMaster//Event Calendar 2.0//EN
METHOD:PUBLISH
X-PUBLISHED-TTL:P3D
REFRESH-INTERVAL:P3D
CALSCALE:GREGORIAN
BEGIN:VEVENT
DTSTART:20181109T150000Z
DTEND:20181109T220000Z
X-MICROSOFT-CDO-ALLDAYEVENT:FALSE
SUMMARY:SFISD Drive 4UR School
DESCRIPTION:Take a 10-minute test drive in a new McRee Ford\, and help the Education Foundation earn a donation that becomes grants to SFISD classrooms. We will also have free refreshments from ACU Texas\, AMOCO and Kona Ice.
X-ALT-DESC;FMTTYPE=text/html:Take a 10-minute test drive in a new McRee Ford\, and help the Education Foundation earn a donation that becomes grants to SFISD classrooms. We will also have free refreshments from ACU Texas\, AMOCO and Kona Ice.
LOCATION:Santa Fe High School Stadium Parking Lot
UID:e.451.6654
SEQUENCE:3
DTSTAMP:20260425T120102Z
URL:https://www.santafetxchamber.com/events/details/sfisd-drive-4ur-school-6654
END:VEVENT

END:VCALENDAR
