BEGIN:VCALENDAR
VERSION:2.0
PRODID:-//ChamberMaster//Event Calendar 2.0//EN
METHOD:PUBLISH
X-PUBLISHED-TTL:P3D
REFRESH-INTERVAL:P3D
CALSCALE:GREGORIAN
BEGIN:VEVENT
DTSTART:20180817T000000Z
DTEND:20180817T020000Z
X-MICROSOFT-CDO-ALLDAYEVENT:FALSE
SUMMARY:SFISD District-wide Parent Information Night
DESCRIPTION:SANTA FE ISD (August 2\, 2018)   Santa Fe ISD will hold a District-wide Parent Information Night on Thursday\, August 16\, at 7:00 p.m. in the Santa Fe High School Auditorium\, 16000 Highway 6\, Santa Fe\, Texas. Parents can submit any questions they want to be addressed at this meeting online in the Santa Fe Strong Interactive Web Portal at santafeupdates.com/contact-us. Santa Fe ISD invites parents to be involved during the new school year\, and there will be opportunities for parents to sign up to volunteer at one of the Santa Fe ISD schools at the Parent Information Night. Parents can also sign up at the Meet the Teacher Nights at the schools or online at www.sfisd.org.
X-ALT-DESC;FMTTYPE=text/html:SANTA FE ISD (August 2\, 2018) &ndash\; Santa Fe ISD will hold a District-wide Parent Information Night on Thursday\, August 16\, at 7:00 p.m. in the Santa Fe High School Auditorium\, 16000 Highway 6\, Santa Fe\, Texas. Parents can submit any questions they want to be addressed at this meeting online in the Santa Fe Strong Interactive Web Portal at santafeupdates.com/contact-us. Santa Fe ISD invites parents to be involved during the new school year\, and there will be opportunities for parents to sign up to volunteer at one of the Santa Fe ISD schools at the Parent Information Night. Parents can also sign up at the Meet the Teacher Nights at the schools or online at www.sfisd.org.
LOCATION:
UID:e.451.6636
SEQUENCE:3
DTSTAMP:20260423T163400Z
URL:https://www.santafetxchamber.com/events/details/sfisd-district-wide-parent-information-night-6636
END:VEVENT

END:VCALENDAR
