BEGIN:VCALENDAR
VERSION:2.0
PRODID:-//ChamberMaster//Event Calendar 2.0//EN
METHOD:PUBLISH
X-PUBLISHED-TTL:P3D
REFRESH-INTERVAL:P3D
CALSCALE:GREGORIAN
BEGIN:VEVENT
DTSTART:20181001T230000Z
DTEND:20181002T010000Z
X-MICROSOFT-CDO-ALLDAYEVENT:FALSE
SUMMARY:SFISD Candidate Forum
DESCRIPTION:Candidate Forum for S.F.I.S.D. School Board\n\nMonday\, October 1\, 2018 at Dayspring Church\n\nDoors will open at 5:30 p.m.\n\n\n\nQuestions for possible use can be submitted to sfchamber@comcast.net\n\n\n\nPosition 4\n\nJessica Hagewood\, Donna Hayes\,\n\nClay Hertenberger and John Rothermel (Incumbent)\n\n \n\nPosition 5\n\nJody Davis\, James Grassmuck\,\n\nTina Longcoy and Sheryl Skufca (Incumbent)\n\n \n\nPosition 6\n\nRusty Norman (Incumbent)
X-ALT-DESC;FMTTYPE=text/html:<span style="font-size:12px\;"><span style="font-family:verdana\;">Candidate Forum for S.F.I.S.D. School Board<br />\nMonday\, October 1\, 2018 at Dayspring Church<br />\nDoors will open at 5:30 p.m.<br />\n<br />\nQuestions for possible use can be submitted to sfchamber@comcast.net<br />\n<br />\n<span style="text-decoration:underline\;text-underline:single\;font-weight:bold\;language:en-US\;">Position 4</span><br />\nJessica Hagewood\, Donna Hayes\,<br />\nClay Hertenberger and John Rothermel (Incumbent)<br />\n&nbsp\;<br />\n<span style="text-decoration:underline\;text-underline:single\;font-weight:bold\;language:en-US\;">Position 5</span><br />\nJody Davis\, James Grassmuck\,<br />\nTina Longcoy and Sheryl Skufca (Incumbent)<br />\n&nbsp\;<br />\n<span style="text-decoration:underline\;text-underline:single\;font-weight:bold\;language:en-US\;">Position 6</span><br />\nRusty Norman (Incumbent)</span></span>
LOCATION:
UID:e.451.6658
SEQUENCE:3
DTSTAMP:20260423T120237Z
URL:https://www.santafetxchamber.com/events/details/sfisd-candidate-forum-6658
END:VEVENT

END:VCALENDAR
