BEGIN:VCALENDAR
VERSION:2.0
PRODID:-//ChamberMaster//Event Calendar 2.0//EN
METHOD:PUBLISH
X-PUBLISHED-TTL:P3D
REFRESH-INTERVAL:P3D
CALSCALE:GREGORIAN
BEGIN:VEVENT
DTSTART:20161024T230000Z
DTEND:20161025T003000Z
X-MICROSOFT-CDO-ALLDAYEVENT:FALSE
SUMMARY:SFISD Candidate Forum
DESCRIPTION:Click HERE for Candidate Bio's
X-ALT-DESC;FMTTYPE=text/html:Click <a href="https://chambermaster.blob.core.windows.net/userfiles/UserFiles/chambers/451/File/ReMaxPhotocontestcelebratesflightpromoteshotairballoonfestival.htm">HERE</a> for Candidate Bio&#39\;s
LOCATION:Dayspring Church 2215 FM 646 North Santa Fe\, Texas
UID:e.451.6132
SEQUENCE:3
DTSTAMP:20260424T215043Z
URL:https://www.santafetxchamber.com/events/details/sfisd-candidate-forum-6132
END:VEVENT

END:VCALENDAR
