BEGIN:VCALENDAR
VERSION:2.0
PRODID:-//ChamberMaster//Event Calendar 2.0//EN
METHOD:PUBLISH
X-PUBLISHED-TTL:P3D
REFRESH-INTERVAL:P3D
CALSCALE:GREGORIAN
BEGIN:VEVENT
DTSTART:20170509T220000Z
DTEND:20170510T000000Z
X-MICROSOFT-CDO-ALLDAYEVENT:FALSE
SUMMARY:SFISD Art Gala
DESCRIPTION:
X-ALT-DESC;FMTTYPE=text/html:
LOCATION:
UID:e.451.6198
SEQUENCE:3
DTSTAMP:20260424T112649Z
URL:https://www.santafetxchamber.com/events/details/sfisd-art-gala-6198
END:VEVENT

END:VCALENDAR
