BEGIN:VCALENDAR
VERSION:2.0
PRODID:-//ChamberMaster//Event Calendar 2.0//EN
METHOD:PUBLISH
X-PUBLISHED-TTL:P3D
REFRESH-INTERVAL:P3D
CALSCALE:GREGORIAN
BEGIN:VEVENT
DTSTART:20190907T003000Z
DTEND:20190907T030000Z
X-MICROSOFT-CDO-ALLDAYEVENT:FALSE
SUMMARY:SFHS Football vs. Tomball
DESCRIPTION:@ Tomball
X-ALT-DESC;FMTTYPE=text/html:@ Tomball
LOCATION:
UID:e.451.7664
SEQUENCE:3
DTSTAMP:20260422T205526Z
URL:https://www.santafetxchamber.com/events/details/sfhs-football-vs-tomball-7664
END:VEVENT

END:VCALENDAR
