BEGIN:VCALENDAR
VERSION:2.0
PRODID:-//ChamberMaster//Event Calendar 2.0//EN
METHOD:PUBLISH
X-PUBLISHED-TTL:P3D
REFRESH-INTERVAL:P3D
CALSCALE:GREGORIAN
BEGIN:VEVENT
DTSTART:20190830T000000Z
DTEND:20190830T030000Z
X-MICROSOFT-CDO-ALLDAYEVENT:FALSE
SUMMARY:SFHS Football vs. Pasadena Dobie
DESCRIPTION:@ Pasadena
X-ALT-DESC;FMTTYPE=text/html:@ Pasadena
LOCATION:
UID:e.451.7663
SEQUENCE:3
DTSTAMP:20260422T223351Z
URL:https://www.santafetxchamber.com/events/details/sfhs-football-vs-pasadena-dobie-7663
END:VEVENT

END:VCALENDAR
