BEGIN:VCALENDAR
VERSION:2.0
PRODID:-//ChamberMaster//Event Calendar 2.0//EN
METHOD:PUBLISH
X-PUBLISHED-TTL:P3D
REFRESH-INTERVAL:P3D
CALSCALE:GREGORIAN
BEGIN:VEVENT
DTSTART:20190914T000000Z
DTEND:20190914T030000Z
X-MICROSOFT-CDO-ALLDAYEVENT:FALSE
SUMMARY:SFHS Football vs. Brazoswood
DESCRIPTION:@ Santa Fe
X-ALT-DESC;FMTTYPE=text/html:@ Santa Fe
LOCATION:
UID:e.451.7665
SEQUENCE:3
DTSTAMP:20260422T215021Z
URL:https://www.santafetxchamber.com/events/details/sfhs-football-vs-brazoswood-7665
END:VEVENT

END:VCALENDAR
