BEGIN:VCALENDAR
VERSION:2.0
PRODID:-//ChamberMaster//Event Calendar 2.0//EN
METHOD:PUBLISH
X-PUBLISHED-TTL:P3D
REFRESH-INTERVAL:P3D
CALSCALE:GREGORIAN
BEGIN:VEVENT
DTSTART:20191005T003000Z
DTEND:20191005T030000Z
X-MICROSOFT-CDO-ALLDAYEVENT:FALSE
SUMMARY:SFHS Football vs. Baytown Lee
DESCRIPTION:@ Baytown Lee
X-ALT-DESC;FMTTYPE=text/html:@ Baytown Lee
LOCATION:
UID:e.451.7667
SEQUENCE:3
DTSTAMP:20260422T192533Z
URL:https://www.santafetxchamber.com/events/details/sfhs-football-vs-baytown-lee-7667
END:VEVENT

END:VCALENDAR
