BEGIN:VCALENDAR
VERSION:2.0
PRODID:-//ChamberMaster//Event Calendar 2.0//EN
METHOD:PUBLISH
X-PUBLISHED-TTL:P3D
REFRESH-INTERVAL:P3D
CALSCALE:GREGORIAN
BEGIN:VEVENT
DTSTART:20191109T013000Z
DTEND:20191109T040000Z
X-MICROSOFT-CDO-ALLDAYEVENT:FALSE
SUMMARY:SFHS Football vs. Barbers Hill
DESCRIPTION:@ Barbers Hill
X-ALT-DESC;FMTTYPE=text/html:@ Barbers Hill
LOCATION:
UID:e.451.7672
SEQUENCE:3
DTSTAMP:20260422T175344Z
URL:https://www.santafetxchamber.com/events/details/sfhs-football-vs-barbers-hill-7672
END:VEVENT

END:VCALENDAR
