BEGIN:VCALENDAR
VERSION:2.0
PRODID:-//ChamberMaster//Event Calendar 2.0//EN
METHOD:PUBLISH
X-PUBLISHED-TTL:P3D
REFRESH-INTERVAL:P3D
CALSCALE:GREGORIAN
BEGIN:VEVENT
DTSTART:20180224T200000Z
DTEND:20180225T010000Z
X-MICROSOFT-CDO-ALLDAYEVENT:FALSE
SUMMARY:SFHS Boy's Locker Room Dedication and Alumni Basketball Game
DESCRIPTION:Dedication Ceremony of the\n\nSFHS Boy's Locker Room\n\nin honor of\n\nMr. Josh Butler\n\n\n\nLight Refreshments and Alumni Basketball Game to follow
X-ALT-DESC;FMTTYPE=text/html:Dedication Ceremony of the<br />\nSFHS Boy&#39\;s Locker Room<br />\nin honor of<br />\nMr. Josh Butler<br />\n<br />\nLight Refreshments and Alumni Basketball Game to follow
LOCATION:Santa Fe High School Gym 16000 Highway 6 Santa Fe\, TX 77510
UID:e.451.6588
SEQUENCE:3
DTSTAMP:20260424T012707Z
URL:https://www.santafetxchamber.com/events/details/sfhs-boy-s-locker-room-dedication-and-alumni-basketball-game-6588
END:VEVENT

END:VCALENDAR
