BEGIN:VCALENDAR
VERSION:2.0
PRODID:-//ChamberMaster//Event Calendar 2.0//EN
METHOD:PUBLISH
X-PUBLISHED-TTL:P3D
REFRESH-INTERVAL:P3D
CALSCALE:GREGORIAN
BEGIN:VEVENT
DTSTART:20160116T183000Z
DTEND:20160117T000000Z
X-MICROSOFT-CDO-ALLDAYEVENT:FALSE
SUMMARY:SFHS Baseball Booster Golf Tournament_2016
DESCRIPTION:10th Annual Golf Tournament\, Silent Auction and Dinner\n\n12:30 p.m. Shotgun Start\n\n\n\nClick HERE for event flyer and other information...
X-ALT-DESC;FMTTYPE=text/html:10th Annual Golf Tournament\, Silent Auction and Dinner<br />\n12:30 p.m. Shotgun Start<br />\n<br />\nClick <a href="http://cloud.chambermaster.com/userfiles/UserFiles/chambers/451/File/GolfTournamentForm2016.pdf">HERE</a> for event flyer and other information...<br />\n&nbsp\;
LOCATION:Southwyck Golf Club 2901 Clubhouse Drive Pearland\, TX 77584
UID:e.451.5156
SEQUENCE:3
DTSTAMP:20260425T165702Z
URL:https://www.santafetxchamber.com/events/details/sfhs-baseball-booster-golf-tournament_2016-01-16-2016-5156
END:VEVENT

END:VCALENDAR
