BEGIN:VCALENDAR
VERSION:2.0
PRODID:-//ChamberMaster//Event Calendar 2.0//EN
METHOD:PUBLISH
X-PUBLISHED-TTL:P3D
REFRESH-INTERVAL:P3D
CALSCALE:GREGORIAN
BEGIN:VEVENT
DTSTART:20180811T140000Z
DTEND:20180811T190000Z
X-MICROSOFT-CDO-ALLDAYEVENT:FALSE
SUMMARY:SF Tribe Moms Back to School Mother's Day Out
DESCRIPTION:
X-ALT-DESC;FMTTYPE=text/html:
LOCATION:
UID:e.451.6628
SEQUENCE:3
DTSTAMP:20260423T180643Z
URL:https://www.santafetxchamber.com/events/details/sf-tribe-moms-back-to-school-mother-s-day-out-6628
END:VEVENT

END:VCALENDAR
