BEGIN:VCALENDAR
VERSION:2.0
PRODID:-//ChamberMaster//Event Calendar 2.0//EN
METHOD:PUBLISH
X-PUBLISHED-TTL:P3D
REFRESH-INTERVAL:P3D
CALSCALE:GREGORIAN
BEGIN:VEVENT
DTSTART:20180804T160000Z
DTEND:20180804T210000Z
X-MICROSOFT-CDO-ALLDAYEVENT:FALSE
SUMMARY:SF Strong Resiliency Center Open House
DESCRIPTION:
X-ALT-DESC;FMTTYPE=text/html:
LOCATION:
UID:e.451.6623
SEQUENCE:3
DTSTAMP:20260423T163341Z
URL:https://www.santafetxchamber.com/events/details/sf-strong-resiliency-center-open-house-6623
END:VEVENT

END:VCALENDAR
